BEGIN:VCALENDAR
VERSION:2.0
PRODID:-//Pet Food Institute Caribbean - ECPv6.6.2//NONSGML v1.0//EN
CALSCALE:GREGORIAN
METHOD:PUBLISH
X-WR-CALNAME:Pet Food Institute Caribbean
X-ORIGINAL-URL:http://www.pficaribbean.com
X-WR-CALDESC:Events for Pet Food Institute Caribbean
REFRESH-INTERVAL;VALUE=DURATION:PT1H
X-Robots-Tag:noindex
X-PUBLISHED-TTL:PT1H
BEGIN:VTIMEZONE
TZID:America/Nassau
BEGIN:DAYLIGHT
TZOFFSETFROM:-0500
TZOFFSETTO:-0400
TZNAME:EDT
DTSTART:20160313T070000
END:DAYLIGHT
BEGIN:STANDARD
TZOFFSETFROM:-0400
TZOFFSETTO:-0500
TZNAME:EST
DTSTART:20161106T060000
END:STANDARD
BEGIN:DAYLIGHT
TZOFFSETFROM:-0500
TZOFFSETTO:-0400
TZNAME:EDT
DTSTART:20170312T070000
END:DAYLIGHT
BEGIN:STANDARD
TZOFFSETFROM:-0400
TZOFFSETTO:-0500
TZNAME:EST
DTSTART:20171105T060000
END:STANDARD
BEGIN:DAYLIGHT
TZOFFSETFROM:-0500
TZOFFSETTO:-0400
TZNAME:EDT
DTSTART:20180311T070000
END:DAYLIGHT
BEGIN:STANDARD
TZOFFSETFROM:-0400
TZOFFSETTO:-0500
TZNAME:EST
DTSTART:20181104T060000
END:STANDARD
BEGIN:DAYLIGHT
TZOFFSETFROM:-0500
TZOFFSETTO:-0400
TZNAME:EDT
DTSTART:20190310T070000
END:DAYLIGHT
BEGIN:STANDARD
TZOFFSETFROM:-0400
TZOFFSETTO:-0500
TZNAME:EST
DTSTART:20191103T060000
END:STANDARD
BEGIN:DAYLIGHT
TZOFFSETFROM:-0500
TZOFFSETTO:-0400
TZNAME:EDT
DTSTART:20200308T070000
END:DAYLIGHT
BEGIN:STANDARD
TZOFFSETFROM:-0400
TZOFFSETTO:-0500
TZNAME:EST
DTSTART:20201101T060000
END:STANDARD
BEGIN:DAYLIGHT
TZOFFSETFROM:-0500
TZOFFSETTO:-0400
TZNAME:EDT
DTSTART:20210314T070000
END:DAYLIGHT
BEGIN:STANDARD
TZOFFSETFROM:-0400
TZOFFSETTO:-0500
TZNAME:EST
DTSTART:20211107T060000
END:STANDARD
BEGIN:DAYLIGHT
TZOFFSETFROM:-0500
TZOFFSETTO:-0400
TZNAME:EDT
DTSTART:20220313T070000
END:DAYLIGHT
BEGIN:STANDARD
TZOFFSETFROM:-0400
TZOFFSETTO:-0500
TZNAME:EST
DTSTART:20221106T060000
END:STANDARD
BEGIN:DAYLIGHT
TZOFFSETFROM:-0500
TZOFFSETTO:-0400
TZNAME:EDT
DTSTART:20230312T070000
END:DAYLIGHT
BEGIN:STANDARD
TZOFFSETFROM:-0400
TZOFFSETTO:-0500
TZNAME:EST
DTSTART:20231105T060000
END:STANDARD
TZID:America/Port_of_Spain
BEGIN:STANDARD
TZOFFSETFROM:-0400
TZOFFSETTO:-0400
TZNAME:AST
DTSTART:20170101T000000
END:STANDARD
END:VTIMEZONE
BEGIN:VEVENT
DTSTART;TZID=America/Nassau:20230502T080000
DTEND;TZID=America/Nassau:20230531T000000
DTSTAMP:20260421T160104
CREATED:20230501T185939Z
LAST-MODIFIED:20230508T190505Z
UID:4545-1683014400-1685491200@www.pficaribbean.com
SUMMARY:Pet Food Institute's Creative Artwork Contest
DESCRIPTION:  \nEnter an art contest with the theme of “healthy pets are happy pets” and win awesome prizes and the chance to have your artwork featured in an educational coloring book! \nRULES: \n\nThe competition is open to primary school students; grades 4-6\nThe art work submitted must be an outline ONLY. No colored in images will be accepted\nArt work should be submitted as a jpg. file\nInclude students name\, age\, grade level and name of their school with the submission\nLimit one entry per child\n\nRegistration is open from May 2nd to May 31st\, 2023. \n*Open to legal residents of The Bahamas\, Jamaica\, Trinidad & Tobago\, Turks & Caicos Islands \nPRIZES: \n\n1st Place – $100 USD (Artwork featured on the front page)\n2nd Place – $75 USD (Artwork featured on the back page)\n3rd Place – $50 USD (Artwork featured on the front interior page)\nInterior Pages – $25 USD (Artwork featured on 15 interior pages)\n\nSubmit your drawing to the email below: \ndpa@dpa-media.com \n*Disclaimer: Once submitted your artwork becomes the property of Pet Food Institute and you consent to allow Pet Food Institute to publish it in the “healthy pets are happy pets” coloring book and any future use and advertisements. There will be only one winner in each category. Decisions of the judges are final. \n  \n 
URL:http://www.pficaribbean.com/event/pet-food-institutes-creative-artwork-contest/
CATEGORIES:Contest
END:VEVENT
BEGIN:VEVENT
DTSTART;TZID=America/Nassau:20210727T180000
DTEND;TZID=America/Nassau:20210727T193000
DTSTAMP:20260421T160104
CREATED:20210722T172938Z
LAST-MODIFIED:20210722T172938Z
UID:4524-1627408800-1627414200@www.pficaribbean.com
SUMMARY:Pet Food Institute Presents Paw Mania - a Regional Pet Wellness Webinar
DESCRIPTION:Join Pet Food Institute Caribbean for it’s first ever Paw Mania\, pet wellness webinar.\nHear from top animals specialists and get all of your pet questions answered.  \nTuesday\, July 27\, 2021 at 6pm (EST)\nVia Zoom https://us02web.zoom.us/j/88942313461?pwd=dmdaWmZFMjUwZ3c4a2JJUTlOWUJxUT09\nMeeting ID: 889 4231 3461\nPasscode: 154924
URL:http://www.pficaribbean.com/event/pet-food-institute-presents-paw-mania-a-regional-pet-wellness-webinar/
CATEGORIES:Adoption,Charity,Dog Show,Exhibition,Meeting,Volunteering
END:VEVENT
BEGIN:VEVENT
DTSTART;TZID=America/Nassau:20180225T143000
DTEND;TZID=America/Nassau:20180225T180000
DTSTAMP:20260421T160104
CREATED:20180221T200143Z
LAST-MODIFIED:20180221T200212Z
UID:4408-1519569000-1519581600@www.pficaribbean.com
SUMMARY:BAARK! Strut Your Mutt Walkathon 2018
DESCRIPTION:
URL:http://www.pficaribbean.com/event/baark-strut-your-mutt-walkathon-2018/
LOCATION:Goodman’s Bay\, Lake Cottage\, East Bay Street\, Nassau\, New Providence\, 00000\, Bahamas
CATEGORIES:Charity,Volunteering
END:VEVENT
BEGIN:VEVENT
DTSTART;VALUE=DATE:20171203
DTEND;VALUE=DATE:20171204
DTSTAMP:20260421T160104
CREATED:20171101T190224Z
LAST-MODIFIED:20180221T200915Z
UID:4413-1512259200-1512345599@www.pficaribbean.com
SUMMARY:GP Kennels All Breed Dog Show and Family Fun Day
DESCRIPTION:Pet Food Institute is proud to sponsor GP Kennels Dog Show and Family Fun Day. Look for our booth\, play games and win prizes!
URL:http://www.pficaribbean.com/event/gp-kennels-all-breed-dog-show-and-family-fun-day/
LOCATION:Caymanas Race Track Grounds\, Portmore\, Jamaica
CATEGORIES:Dog Show
END:VEVENT
BEGIN:VEVENT
DTSTART;TZID=America/Port_of_Spain:20170402T100000
DTEND;TZID=America/Port_of_Spain:20170402T170000
DTSTAMP:20260421T160104
CREATED:20170315T151626Z
LAST-MODIFIED:20170315T151626Z
UID:4345-1491127200-1491152400@www.pficaribbean.com
SUMMARY:Independent Kennel Club of TT - 5th Anniversary Dog Show
DESCRIPTION:
URL:http://www.pficaribbean.com/event/independent-kennel-club-of-tt-5th-anniversary-dog-show/
LOCATION:Ste. Madeleine Secondary School Grounds\, San Fernando\, Trinidad And Tobago
CATEGORIES:Dog Show,Exhibition
END:VEVENT
BEGIN:VEVENT
DTSTART;VALUE=DATE:20170325
DTEND;VALUE=DATE:20170326
DTSTAMP:20260421T160104
CREATED:20170315T145821Z
LAST-MODIFIED:20170315T145821Z
UID:4337-1490400000-1490486399@www.pficaribbean.com
SUMMARY:Grand Bahama Dog Days Half Marathon
DESCRIPTION:
URL:http://www.pficaribbean.com/event/grand-bahama-dog-days-half-marathon/
LOCATION:Bahamas Adventures\, Freeport\, Grand Bahama\, Bahamas
CATEGORIES:Charity
END:VEVENT
BEGIN:VEVENT
DTSTART;TZID=America/Nassau:20161201T080000
DTEND;TZID=America/Nassau:20161201T120000
DTSTAMP:20260421T160105
CREATED:20161129T222147Z
LAST-MODIFIED:20161129T225928Z
UID:3949-1480579200-1480593600@www.pficaribbean.com
SUMMARY:BAARK Potcake Triathalon
DESCRIPTION:Vestibulum quis urna risus. Aliquam sed velit lacinia\, lobortis est non\, aliquam diam. Cras nulla magna\, ullamcorper sed aliquam sit amet\, consequat ac magna. Cum sociis natoque penatibus et magnis dis parturient montes\, nascetur ridiculus mus. Pellentesque congue enim magna\, ut aliquet felis posuere et. Vivamus orci justo\, ullamcorper nec tempor in\, facilisis quis ligula. Mauris vel sodales urna. Integer bibendum nisl nec vestibulum scelerisque. Nulla dignissim maximus dui\, eget ullamcorper neque vulputate nec.
URL:http://www.pficaribbean.com/event/baark-potcake-triathalon/
LOCATION:Fort Charlotte\, W Bay St\, Nassau\, Bahamas
ATTACH;FMTTYPE=image/jpeg:http://www.pficaribbean.com/wp-content/uploads/2016/11/4290828254_8718259dac_b-580x460.jpg
END:VEVENT
END:VCALENDAR